BEGIN:VCALENDAR
VERSION:2.0
PRODID:-//American Legion Department of Georgia - ECPv6.15.20//NONSGML v1.0//EN
CALSCALE:GREGORIAN
METHOD:PUBLISH
X-WR-CALNAME:American Legion Department of Georgia
X-ORIGINAL-URL:https://georgialegion.org
X-WR-CALDESC:Events for American Legion Department of Georgia
REFRESH-INTERVAL;VALUE=DURATION:PT1H
X-Robots-Tag:noindex
X-PUBLISHED-TTL:PT1H
BEGIN:VTIMEZONE
TZID:UTC
BEGIN:STANDARD
TZOFFSETFROM:+0000
TZOFFSETTO:+0000
TZNAME:UTC
DTSTART:20220101T000000
END:STANDARD
END:VTIMEZONE
BEGIN:VTIMEZONE
TZID:America/New_York
BEGIN:DAYLIGHT
TZOFFSETFROM:-0500
TZOFFSETTO:-0400
TZNAME:EDT
DTSTART:20220313T070000
END:DAYLIGHT
BEGIN:STANDARD
TZOFFSETFROM:-0400
TZOFFSETTO:-0500
TZNAME:EST
DTSTART:20221106T060000
END:STANDARD
BEGIN:DAYLIGHT
TZOFFSETFROM:-0500
TZOFFSETTO:-0400
TZNAME:EDT
DTSTART:20230312T070000
END:DAYLIGHT
BEGIN:STANDARD
TZOFFSETFROM:-0400
TZOFFSETTO:-0500
TZNAME:EST
DTSTART:20231105T060000
END:STANDARD
BEGIN:DAYLIGHT
TZOFFSETFROM:-0500
TZOFFSETTO:-0400
TZNAME:EDT
DTSTART:20240310T070000
END:DAYLIGHT
BEGIN:STANDARD
TZOFFSETFROM:-0400
TZOFFSETTO:-0500
TZNAME:EST
DTSTART:20241103T060000
END:STANDARD
BEGIN:DAYLIGHT
TZOFFSETFROM:-0500
TZOFFSETTO:-0400
TZNAME:EDT
DTSTART:20250309T070000
END:DAYLIGHT
BEGIN:STANDARD
TZOFFSETFROM:-0400
TZOFFSETTO:-0500
TZNAME:EST
DTSTART:20251102T060000
END:STANDARD
END:VTIMEZONE
BEGIN:VEVENT
DTSTART;TZID=UTC:20240203T090000
DTEND;TZID=UTC:20240203T120000
DTSTAMP:20260421T004707
CREATED:20231207T054057Z
LAST-MODIFIED:20231207T054057Z
UID:12691-1706950800-1706961600@georgialegion.org
SUMMARY:District 1 Meeting
DESCRIPTION:District 1 Meeting
URL:https://georgialegion.org/events/district-1-meeting-2/
LOCATION:Post 90\, 100 Rucker Ln\, Statesboro\, GA\, 30458\, United States
CATEGORIES:Family Events
END:VEVENT
BEGIN:VEVENT
DTSTART;TZID=UTC:20240203T090000
DTEND;TZID=UTC:20240203T120000
DTSTAMP:20260421T004707
CREATED:20231207T054056Z
LAST-MODIFIED:20231207T054056Z
UID:12710-1706950800-1706961600@georgialegion.org
SUMMARY:District 3 Meeting
DESCRIPTION:District 3 Meeting
URL:https://georgialegion.org/events/district-3-meeting-2/
LOCATION:Post 2\, 923 N Martin Luther King Jr Blvd\, Americus\, GA\, 31719\, United States
CATEGORIES:Family Events
END:VEVENT
BEGIN:VEVENT
DTSTART;TZID=UTC:20240203T080000
DTEND;TZID=UTC:20240203T170000
DTSTAMP:20260421T004707
CREATED:20231207T054057Z
LAST-MODIFIED:20231207T054057Z
UID:12735-1706947200-1706979600@georgialegion.org
SUMMARY:District 6 Meeting
DESCRIPTION:District 6 Meeting
URL:https://georgialegion.org/events/district-6-meeting-2/
LOCATION:Post 594\, 1523 Moody Rd\, Warner Robins\, GA\, 31088\, United States
CATEGORIES:Family Events
END:VEVENT
BEGIN:VEVENT
DTSTART;TZID=America/New_York:20240125T100000
DTEND;TZID=America/New_York:20240125T150000
DTSTAMP:20260421T004707
CREATED:20231218T010428Z
LAST-MODIFIED:20240105T214758Z
UID:13522-1706176800-1706194800@georgialegion.org
SUMMARY:"SPECIAL" DEC Meeting-***LOCATION CHANGE***
DESCRIPTION:“SPECIAL”DEC MEETING
URL:https://georgialegion.org/events/special-dec-meeting/
LOCATION:Post 258: 1480 American Legion Way\, Jonesboro\, Ga  30236
CATEGORIES:DEC
END:VEVENT
BEGIN:VEVENT
DTSTART;TZID=America/New_York:20240124T090000
DTEND;TZID=America/New_York:20240124T153000
DTSTAMP:20260421T004707
CREATED:20231215T125209Z
LAST-MODIFIED:20240105T214435Z
UID:13472-1706086800-1706110200@georgialegion.org
SUMMARY:ADJUTANT'S TRAINING-***LOCATION CHANGE***
DESCRIPTION:ADJUTANT’S TRAINING
URL:https://georgialegion.org/events/adjutants-training/
LOCATION:Fairfield Inn and Suites\, Stockbridge\, Georgia\, 825 Hwy 138\, SE
CATEGORIES:Training
END:VEVENT
BEGIN:VEVENT
DTSTART;VALUE=DATE:20240101
DTEND;VALUE=DATE:20240102
DTSTAMP:20260421T004707
CREATED:20231223T121807Z
LAST-MODIFIED:20231223T121807Z
UID:13750-1704067200-1704153599@georgialegion.org
SUMMARY:HAPPY NEW YEAR LEGIONNAIRES
DESCRIPTION:MAKE IT THE BEST YEAR EVER
URL:https://georgialegion.org/events/happy-new-year-legionnaires/
CATEGORIES:Family Events
END:VEVENT
BEGIN:VEVENT
DTSTART;VALUE=DATE:20231229
DTEND;VALUE=DATE:20240103
DTSTAMP:20260421T004707
CREATED:20231219T000204Z
LAST-MODIFIED:20231219T000435Z
UID:13551-1703808000-1704239999@georgialegion.org
SUMMARY:HOLIDAY CLOSURE-DEPT OF GEORGIA
DESCRIPTION:CLOSED FOR NEW YEARS \nOffice closed Dec 29 – jan 2\, 2024\, Returning January 3\, 2024
URL:https://georgialegion.org/events/holiday-closure-dept-of-georgia-2/
CATEGORIES:Community
END:VEVENT
BEGIN:VEVENT
DTSTART;VALUE=DATE:20231225
DTEND;VALUE=DATE:20231226
DTSTAMP:20260421T004707
CREATED:20231223T121546Z
LAST-MODIFIED:20231223T121546Z
UID:13747-1703462400-1703548799@georgialegion.org
SUMMARY:MERRY CHRISTMAS TO ALL
DESCRIPTION:AND TO ALL A GOOD NIGHT
URL:https://georgialegion.org/events/merry-christmas-to-all/
CATEGORIES:Family Events
END:VEVENT
BEGIN:VEVENT
DTSTART;VALUE=DATE:20231221
DTEND;VALUE=DATE:20231227
DTSTAMP:20260421T004707
CREATED:20231218T235547Z
LAST-MODIFIED:20231218T235835Z
UID:13547-1703116800-1703635199@georgialegion.org
SUMMARY:HOLIDAY CLOSURE-DEPT OF GEORGIA
DESCRIPTION:CLOSED FOR CHRISTMAS \nOffice closed Dec 21 – Dec 26\, Retuning Dec 27
URL:https://georgialegion.org/events/holiday-closure-dept-of-georgia/
CATEGORIES:Community
END:VEVENT
BEGIN:VEVENT
DTSTART;VALUE=DATE:20231213
DTEND;VALUE=DATE:20231214
DTSTAMP:20260421T004707
CREATED:20231214T044213Z
LAST-MODIFIED:20231214T044851Z
UID:13367-1702425600-1702511999@georgialegion.org
SUMMARY:Mel Event
DESCRIPTION:Mel Event
URL:https://georgialegion.org/events/mel-event/
LOCATION:College Park\, 1403 Raintree Boulevard\, Grand Rapids\, MI\, 49503\, United States
CATEGORIES:Community
END:VEVENT
BEGIN:VEVENT
DTSTART;TZID=UTC:20231210T090000
DTEND;TZID=UTC:20231210T130000
DTSTAMP:20260421T004707
CREATED:20231207T205816Z
LAST-MODIFIED:20231207T205816Z
UID:12787-1702198800-1702213200@georgialegion.org
SUMMARY:District 11 Meeting
DESCRIPTION:District 11 Meeting
URL:https://georgialegion.org/events/district-11-meeting-2/
LOCATION:Post 63\, 90 Millegge Rd\, Augusta\, GA\, 30904\, United States
CATEGORIES:Family Events
END:VEVENT
BEGIN:VEVENT
DTSTART;TZID=UTC:20231208T080000
DTEND;TZID=UTC:20231209T170000
DTSTAMP:20260421T004707
CREATED:20231207T193943Z
LAST-MODIFIED:20231207T193943Z
UID:12890-1702022400-1702141200@georgialegion.org
SUMMARY:HOSPITAL VISIT
DESCRIPTION:Hospital Visit
URL:https://georgialegion.org/events/hospital-visit-2/
LOCATION:Augusta VA\, 1 Freedom Way\, Augusta\, United States
CATEGORIES:Family Events
ATTACH;FMTTYPE=image/jpeg:https://georgialegion.org/wp-content/uploads/2023/12/speaking.jpg
END:VEVENT
END:VCALENDAR