BEGIN:VCALENDAR
VERSION:2.0
PRODID:-//American Legion Department of Georgia - ECPv6.15.20//NONSGML v1.0//EN
CALSCALE:GREGORIAN
METHOD:PUBLISH
X-WR-CALNAME:American Legion Department of Georgia
X-ORIGINAL-URL:https://georgialegion.org
X-WR-CALDESC:Events for American Legion Department of Georgia
REFRESH-INTERVAL;VALUE=DURATION:PT1H
X-Robots-Tag:noindex
X-PUBLISHED-TTL:PT1H
BEGIN:VTIMEZONE
TZID:UTC
BEGIN:STANDARD
TZOFFSETFROM:+0000
TZOFFSETTO:+0000
TZNAME:UTC
DTSTART:20230101T000000
END:STANDARD
END:VTIMEZONE
BEGIN:VTIMEZONE
TZID:America/New_York
BEGIN:DAYLIGHT
TZOFFSETFROM:-0500
TZOFFSETTO:-0400
TZNAME:EDT
DTSTART:20230312T070000
END:DAYLIGHT
BEGIN:STANDARD
TZOFFSETFROM:-0400
TZOFFSETTO:-0500
TZNAME:EST
DTSTART:20231105T060000
END:STANDARD
BEGIN:DAYLIGHT
TZOFFSETFROM:-0500
TZOFFSETTO:-0400
TZNAME:EDT
DTSTART:20240310T070000
END:DAYLIGHT
BEGIN:STANDARD
TZOFFSETFROM:-0400
TZOFFSETTO:-0500
TZNAME:EST
DTSTART:20241103T060000
END:STANDARD
BEGIN:DAYLIGHT
TZOFFSETFROM:-0500
TZOFFSETTO:-0400
TZNAME:EDT
DTSTART:20250309T070000
END:DAYLIGHT
BEGIN:STANDARD
TZOFFSETFROM:-0400
TZOFFSETTO:-0500
TZNAME:EST
DTSTART:20251102T060000
END:STANDARD
END:VTIMEZONE
BEGIN:VEVENT
DTSTART;TZID=UTC:20240518T100000
DTEND;TZID=UTC:20240518T140000
DTSTAMP:20260420T211052
CREATED:20231207T185056Z
LAST-MODIFIED:20231207T185056Z
UID:12770-1716026400-1716040800@georgialegion.org
SUMMARY:District 8 Meeting
DESCRIPTION:District 8 Meeting
URL:https://georgialegion.org/events/district-8-meeting/
LOCATION:Post 18\, 1737 GA Hwy 32E\, Douglas\, GA\, 31533\, United States
CATEGORIES:Family Events
END:VEVENT
BEGIN:VEVENT
DTSTART;VALUE=DATE:20240517
DTEND;VALUE=DATE:20240520
DTSTAMP:20260420T211052
CREATED:20240129T143923Z
LAST-MODIFIED:20240129T143923Z
UID:14698-1715904000-1716163199@georgialegion.org
SUMMARY:Oratorical Contest-National
DESCRIPTION:The American Legion Oratorical Scholarship Contest \nQuarterfinal and semifinal contests are scheduled for Saturday\, May 18 with the finals scheduled for Sunday\, May 19. \nAll contestants and chaperones will arrive the Friday of the contest weekend.  All contestants and chaperones will stay on campus at Hillsdale College. \nA mandatory pre-contest orientation session for all contestants will take place the Friday evening of the contest weekend.  A banquet honoring all contestants will be Sunday afternoon\, following the national championship contest.
URL:https://georgialegion.org/events/oratorical-contest-national/
LOCATION:Hillsdale College\, Hillsdale\, MI\, United States
CATEGORIES:Community,Education,Family Events
END:VEVENT
BEGIN:VEVENT
DTSTART;TZID=America/New_York:20240511T110000
DTEND;TZID=America/New_York:20240511T160000
DTSTAMP:20260420T211052
CREATED:20240413T115846Z
LAST-MODIFIED:20240418T154448Z
UID:15475-1715425200-1715443200@georgialegion.org
SUMMARY:CHAPLAIN TRAINING/REFRESHER COURSE
DESCRIPTION:The host and trainers will be Michael Schwartz\, Department Chaplain and Clarence Sinkler\, Department Assistant Chaplain.\nCourse agenda will include the role of a chaplain\, administrative procedures\, 4 Chaplain services and other duties associated with the role of a chaplain. \nPlease RSVP to Chaplain Schwartz via email at ignitewithfaith@yahoo.com no later than\nFriday\, May 3\, 2024.
URL:https://georgialegion.org/events/chaplain-training-refresher-course/
LOCATION:Post 160\, 160 Legion Dr\, SE\, Smyrna\, 30080\, United States
CATEGORIES:Education,Training
ORGANIZER;CN="Michael Schwartz":MAILTO:ignitewithfaith@yahoo.com
END:VEVENT
BEGIN:VEVENT
DTSTART;TZID=UTC:20240511T100000
DTEND;TZID=UTC:20240511T150000
DTSTAMP:20260420T211052
CREATED:20240116T164352Z
LAST-MODIFIED:20240116T164352Z
UID:14589-1715421600-1715439600@georgialegion.org
SUMMARY:District 4 Meeting
DESCRIPTION:District 4 Meeting \nJoint meeting @ 10AM then lunch at 12PM \nDistrict meeting starts at 1PM
URL:https://georgialegion.org/events/district-4-meeting-2/
LOCATION:Post 258\, 1480 American Legion Way\, Jonesboro\, 30326\, United States
CATEGORIES:Family Events
ORGANIZER;CN="Danny Powell":MAILTO:dnnypowell@aol.com
END:VEVENT
BEGIN:VEVENT
DTSTART;VALUE=DATE:20240506
DTEND;VALUE=DATE:20240510
DTSTAMP:20260420T211052
CREATED:20231207T184959Z
LAST-MODIFIED:20231207T184959Z
UID:12810-1714953600-1715299199@georgialegion.org
SUMMARY:NATIONAL SPRING CONFERENCE
DESCRIPTION:National Spring Conference
URL:https://georgialegion.org/events/national-spring-conference-3/
LOCATION:Sheraton City Centre Hotel\, 31 West Ohio St\, Indianapolis\, IN\, 46204\, United States
CATEGORIES:Family Events
END:VEVENT
BEGIN:VEVENT
DTSTART;TZID=UTC:20240504T120000
DTEND;TZID=UTC:20240504T150000
DTSTAMP:20260420T211052
CREATED:20231207T054054Z
LAST-MODIFIED:20231207T054054Z
UID:12740-1714824000-1714834800@georgialegion.org
SUMMARY:District 6 Meeting
DESCRIPTION:District 6 Meeting
URL:https://georgialegion.org/events/district-6-meeting/
LOCATION:Post 6\, 231 Log Cabin Rd NE\, Milledgeville\, GA\, 31061\, United States
CATEGORIES:Family Events
END:VEVENT
BEGIN:VEVENT
DTSTART;TZID=UTC:20240504T110000
DTEND;TZID=UTC:20240504T150000
DTSTAMP:20260420T211052
CREATED:20231207T210602Z
LAST-MODIFIED:20231207T210602Z
UID:12777-1714820400-1714834800@georgialegion.org
SUMMARY:District 9 Meeting
DESCRIPTION:District 9 Meeting
URL:https://georgialegion.org/events/district-9-meeting/
LOCATION:Post 127\, 6196 Suwanee Dam Rd\, Sugar Hill\, GA\, 30518\, United States
CATEGORIES:Family Events
END:VEVENT
BEGIN:VEVENT
DTSTART;TZID=UTC:20240504T100000
DTEND;TZID=UTC:20240504T140000
DTSTAMP:20260420T211052
CREATED:20231207T210142Z
LAST-MODIFIED:20240329T105316Z
UID:12784-1714816800-1714831200@georgialegion.org
SUMMARY:District 10 Meeting
DESCRIPTION:District 10 Meeting
URL:https://georgialegion.org/events/district-10-meeting-2/
LOCATION:Post 77\, 674 American Legion Rd NE\, Conyers\, 30012\, United States
CATEGORIES:Family Events
END:VEVENT
BEGIN:VEVENT
DTSTART;TZID=UTC:20240504T090000
DTEND;TZID=UTC:20240504T120000
DTSTAMP:20260420T211052
CREATED:20231207T054055Z
LAST-MODIFIED:20231207T054055Z
UID:12697-1714813200-1714824000@georgialegion.org
SUMMARY:District 1 Meeting
DESCRIPTION:District 1 Meeting
URL:https://georgialegion.org/events/district-1-meeting/
LOCATION:Post 184\, 3003 Rowland Ave\, Savannah\, GA\, 31404\, United States
CATEGORIES:Family Events
END:VEVENT
BEGIN:VEVENT
DTSTART;TZID=UTC:20240504T090000
DTEND;TZID=UTC:20240504T120000
DTSTAMP:20260420T211052
CREATED:20231207T054054Z
LAST-MODIFIED:20231207T054054Z
UID:12715-1714813200-1714824000@georgialegion.org
SUMMARY:District 3 Meeting
DESCRIPTION:District 3 Meeting
URL:https://georgialegion.org/events/district-3-meeting/
LOCATION:Post 35\, 3361 N Lumpkin Rd\, Columbus\, GA\, 31903\, United States
CATEGORIES:Family Events
END:VEVENT
BEGIN:VEVENT
DTSTART;VALUE=DATE:20240420
DTEND;VALUE=DATE:20240425
DTSTAMP:20260420T211052
CREATED:20240117T163526Z
LAST-MODIFIED:20240117T163526Z
UID:14616-1713571200-1714003199@georgialegion.org
SUMMARY:NATIONAL COMMANDER-DANIEL SEEHAFER VISIT
DESCRIPTION:National Commander Seehafer visit to the Department of Georgia \nArrive April 20; \nApril 21-Visit District 8 \nApril 22-Visit District 1 \nApril 23-Visit District 11 \nDepart April 24
URL:https://georgialegion.org/events/national-commander-daniel-seehafer-visit/
LOCATION:IN
CATEGORIES:National Visit
END:VEVENT
BEGIN:VEVENT
DTSTART;VALUE=DATE:20240321
DTEND;VALUE=DATE:20240325
DTSTAMP:20260420T211052
CREATED:20231207T210434Z
LAST-MODIFIED:20240109T204850Z
UID:12806-1710979200-1711324799@georgialegion.org
SUMMARY:Dept of GA Spring Conference
DESCRIPTION:Department of GA Spring Conference\nOnline Registration & Banquet Ticket Purchase. \nDEC ONLY – Thursday\, March 21\, 2024 at 6:00PM. \nThe Commanders & Presidents Banquet – Saturday\, March 23\, 2024 at 6:00 PM. \nHOTEL RESERVATIONS: 1-800-766-3782 Code: 03212024THEA | Payment Info: Provide debit/credit card info to the Sonesta Gwinnett Place Atlanta Hotel (Credit card will not be charged until check in. You must contact the hotel within 72 hours of check-in to cancel your reservations or you will be charged). Room Rates: *Taxes\, fees\, incidentals\, not included. KING (1-K-bed) $117.00 or DOUBLE: (2-Q-beds) $117.00 \nOffline Registration – Spring-2024-Conference\nMail Registration Form & Check(s) to: 3035 Mt Zion Rd\, Stockbridge\, GA 30281 | Make Check(s) Payable to: American Legion Department of Georgia\n \nEARLY REGISTRATION – BEFORE FEBRUARY 23RD – $15.00 | REGISTRATION – AFTER FEBRUARY 23RD – $25.00
URL:https://georgialegion.org/events/dept-of-ga-spring-conference/
LOCATION:Sonesta Place\, 1775 Pleasant Hill Rd\,\, Duluth\, GA\, 30080\, United States
CATEGORIES:Family Events
END:VEVENT
BEGIN:VEVENT
DTSTART;TZID=UTC:20240310T090000
DTEND;TZID=UTC:20240310T130000
DTSTAMP:20260420T211052
CREATED:20231207T210306Z
LAST-MODIFIED:20231207T210306Z
UID:12791-1710061200-1710075600@georgialegion.org
SUMMARY:District 11 Meeting
DESCRIPTION:District 11 Meeting
URL:https://georgialegion.org/events/district-11-meeting-3/
LOCATION:Post 63\, 90 Millegge Rd\, Augusta\, GA\, 30904\, United States
CATEGORIES:Family Events
END:VEVENT
BEGIN:VEVENT
DTSTART;VALUE=DATE:20240303
DTEND;VALUE=DATE:20240304
DTSTAMP:20260420T211052
CREATED:20240129T141925Z
LAST-MODIFIED:20240129T141925Z
UID:14694-1709424000-1709510399@georgialegion.org
SUMMARY:ORATORICAL-DEPT OF GEORGIA
DESCRIPTION:Dept of GA Oratorical scholarship contest \nCONTACT US: \nRobert Stites\nChair\, Department Oratorical Committee\nrevrsal@aol.com \nJoe Bishop\nDepartment Oratorical Committee\nscjjcb@windstream.net\n229-881-7692
URL:https://georgialegion.org/events/oratorical-dept-of-georgia/
LOCATION:Historic Mary Persons Auditorium\, 27 Brooklyn Ave.\, Forsyth\, GA\, 31029\, United States
CATEGORIES:Community,Education,Family Events
END:VEVENT
BEGIN:VEVENT
DTSTART;TZID=UTC:20240224T100000
DTEND;TZID=UTC:20240224T140000
DTSTAMP:20260420T211052
CREATED:20231207T205549Z
LAST-MODIFIED:20240216T105348Z
UID:12766-1708768800-1708783200@georgialegion.org
SUMMARY:District 8 Meeting
DESCRIPTION:District 8 Meeting
URL:https://georgialegion.org/events/district-8-meeting-2/
LOCATION:Post 9\, 4470 US Hwy 17 N\, Brunswick\, GA\, 31525\, United States
CATEGORIES:Family Events
END:VEVENT
BEGIN:VEVENT
DTSTART;VALUE=DATE:20240224
DTEND;VALUE=DATE:20240229
DTSTAMP:20260420T211052
CREATED:20231207T210050Z
LAST-MODIFIED:20240115T175018Z
UID:12801-1708732800-1709164799@georgialegion.org
SUMMARY:National Winter Conference
DESCRIPTION:National Winter Conference \nHERE IS A LINK TO THE HOTEL IPETERSBURG\, VA FOR THE NIGHT OF THE 24TH. COPY AND PASTE INTO YOUR BROWSER. \nhttps://www.hilton.com/en/book/reservation/rooms/?ctyhocn=PTBVAHX&arrivalDate=2024-02-24&departureDate=2024-02-25&groupCode=CHHALG&room1NumAdults \nif you plan to ride in the dept of ga van\, please contact the dept office immediately\, they need to plan.
URL:https://georgialegion.org/events/national-winter-conference-3/
LOCATION:Washington DC\, 1919 Connecticut Ave NW\, Washington DC\, DC\, United States
CATEGORIES:Family Events
END:VEVENT
BEGIN:VEVENT
DTSTART;TZID=UTC:20240218T133000
DTEND;TZID=UTC:20240218T180000
DTSTAMP:20260420T211052
CREATED:20231207T210948Z
LAST-MODIFIED:20231227T202421Z
UID:12795-1708263000-1708279200@georgialegion.org
SUMMARY:District 12 Meeting
DESCRIPTION:District 12 Meeting
URL:https://georgialegion.org/events/district-12-meeting-2/
LOCATION:Post 21\, 1224 Moore Hwy\, Tifton\, GA\, 31794\, United States
CATEGORIES:Family Events
END:VEVENT
BEGIN:VEVENT
DTSTART;TZID=UTC:20240217T100000
DTEND;TZID=UTC:20240217T143000
DTSTAMP:20260420T211052
CREATED:20231207T205705Z
LAST-MODIFIED:20231207T205705Z
UID:12759-1708164000-1708180200@georgialegion.org
SUMMARY:District 7 Meeting
DESCRIPTION:District 7 Meeting
URL:https://georgialegion.org/events/district-7-meeting-2/
LOCATION:Post 86\, 1675 Rockmart Hwy\, Cedartown\, 30125\, United States
CATEGORIES:Family Events
END:VEVENT
BEGIN:VEVENT
DTSTART;TZID=UTC:20240211T140000
DTEND;TZID=UTC:20240211T170000
DTSTAMP:20260420T211052
CREATED:20231207T054056Z
LAST-MODIFIED:20231207T054056Z
UID:12701-1707660000-1707670800@georgialegion.org
SUMMARY:District 2 Meeting
DESCRIPTION:District 2 Meeting
URL:https://georgialegion.org/events/district-2-meeting-2/
LOCATION:Post 544\, 1705 Martin Luther King Jr Ave\, Cairo\, GA\, 39828\, United States
CATEGORIES:Family Events
END:VEVENT
BEGIN:VEVENT
DTSTART;TZID=UTC:20240211T080000
DTEND;TZID=UTC:20240211T120000
DTSTAMP:20260420T211052
CREATED:20231207T054056Z
LAST-MODIFIED:20240120T180055Z
UID:12732-1707638400-1707652800@georgialegion.org
SUMMARY:District 5 Meeting
DESCRIPTION:District 5 Meeting
URL:https://georgialegion.org/events/district-5-meeting-2/
LOCATION:Post 111\, 2587 Scoggins Rd\, Dallas\, GA\, 30157\, United States
CATEGORIES:Family Events
END:VEVENT
BEGIN:VEVENT
DTSTART;TZID=UTC:20240210T100000
DTEND;TZID=UTC:20240210T150000
DTSTAMP:20260420T211052
CREATED:20240116T163305Z
LAST-MODIFIED:20240208T210534Z
UID:14585-1707559200-1707577200@georgialegion.org
SUMMARY:District 4 Meeting
DESCRIPTION:District 4 Meeting \nJoint meeting @ 10AM then lunch at 12PM \nDistrict meeting starts at 1PM \nin the basement of the Fred Amphitheater Ticket Office building \nGo around back to the basement entrance in the back.
URL:https://georgialegion.org/events/district-4-meeting/
LOCATION:American Legion Post 50\, 201 McIntosh Trail\, Peachtree City\, Georgia\, 30269
CATEGORIES:Family Events
ORGANIZER;CN="Danny Powell":MAILTO:dnnypowell@aol.com
END:VEVENT
BEGIN:VEVENT
DTSTART;VALUE=DATE:20240204
DTEND;VALUE=DATE:20240205
DTSTAMP:20260420T211052
CREATED:20240118T184136Z
LAST-MODIFIED:20240118T184137Z
UID:14620-1707004800-1707091199@georgialegion.org
SUMMARY:FOUR CHAPLINS DAY
DESCRIPTION:Four Chaplins Sunday
URL:https://georgialegion.org/events/four-chaplins-day/
LOCATION:The American Legion\, United States
CATEGORIES:Community
END:VEVENT
BEGIN:VEVENT
DTSTART;TZID=UTC:20240203T110000
DTEND;TZID=UTC:20240203T143000
DTSTAMP:20260420T211052
CREATED:20231207T210710Z
LAST-MODIFIED:20231207T210710Z
UID:12773-1706958000-1706970600@georgialegion.org
SUMMARY:District 9 Meeting
DESCRIPTION:District 9 Meeting
URL:https://georgialegion.org/events/district-9-meeting-2/
LOCATION:Post 232\, 3163 Main St W\, Snellville\, GA\, 30078\, United States
CATEGORIES:Family Events
END:VEVENT
BEGIN:VEVENT
DTSTART;TZID=UTC:20240203T100000
DTEND;TZID=UTC:20240203T140000
DTSTAMP:20260420T211052
CREATED:20231207T210008Z
LAST-MODIFIED:20231207T210008Z
UID:12780-1706954400-1706968800@georgialegion.org
SUMMARY:District 10 Meeting
DESCRIPTION:District 10 Meeting
URL:https://georgialegion.org/events/district-10-meeting/
LOCATION:Post 110\, 438 E Greene St\, Monticello\, GA\, 31064\, United States
CATEGORIES:Family Events
END:VEVENT
BEGIN:VEVENT
DTSTART;TZID=UTC:20240203T090000
DTEND;TZID=UTC:20240203T120000
DTSTAMP:20260420T211052
CREATED:20231207T054057Z
LAST-MODIFIED:20231207T054057Z
UID:12691-1706950800-1706961600@georgialegion.org
SUMMARY:District 1 Meeting
DESCRIPTION:District 1 Meeting
URL:https://georgialegion.org/events/district-1-meeting-2/
LOCATION:Post 90\, 100 Rucker Ln\, Statesboro\, GA\, 30458\, United States
CATEGORIES:Family Events
END:VEVENT
BEGIN:VEVENT
DTSTART;TZID=UTC:20240203T090000
DTEND;TZID=UTC:20240203T120000
DTSTAMP:20260420T211052
CREATED:20231207T054056Z
LAST-MODIFIED:20231207T054056Z
UID:12710-1706950800-1706961600@georgialegion.org
SUMMARY:District 3 Meeting
DESCRIPTION:District 3 Meeting
URL:https://georgialegion.org/events/district-3-meeting-2/
LOCATION:Post 2\, 923 N Martin Luther King Jr Blvd\, Americus\, GA\, 31719\, United States
CATEGORIES:Family Events
END:VEVENT
BEGIN:VEVENT
DTSTART;TZID=UTC:20240203T080000
DTEND;TZID=UTC:20240203T170000
DTSTAMP:20260420T211052
CREATED:20231207T054057Z
LAST-MODIFIED:20231207T054057Z
UID:12735-1706947200-1706979600@georgialegion.org
SUMMARY:District 6 Meeting
DESCRIPTION:District 6 Meeting
URL:https://georgialegion.org/events/district-6-meeting-2/
LOCATION:Post 594\, 1523 Moody Rd\, Warner Robins\, GA\, 31088\, United States
CATEGORIES:Family Events
END:VEVENT
BEGIN:VEVENT
DTSTART;TZID=America/New_York:20240125T100000
DTEND;TZID=America/New_York:20240125T150000
DTSTAMP:20260420T211052
CREATED:20231218T010428Z
LAST-MODIFIED:20240105T214758Z
UID:13522-1706176800-1706194800@georgialegion.org
SUMMARY:"SPECIAL" DEC Meeting-***LOCATION CHANGE***
DESCRIPTION:“SPECIAL”DEC MEETING
URL:https://georgialegion.org/events/special-dec-meeting/
LOCATION:Post 258: 1480 American Legion Way\, Jonesboro\, Ga  30236
CATEGORIES:DEC
END:VEVENT
BEGIN:VEVENT
DTSTART;TZID=America/New_York:20240124T090000
DTEND;TZID=America/New_York:20240124T153000
DTSTAMP:20260420T211052
CREATED:20231215T125209Z
LAST-MODIFIED:20240105T214435Z
UID:13472-1706086800-1706110200@georgialegion.org
SUMMARY:ADJUTANT'S TRAINING-***LOCATION CHANGE***
DESCRIPTION:ADJUTANT’S TRAINING
URL:https://georgialegion.org/events/adjutants-training/
LOCATION:Fairfield Inn and Suites\, Stockbridge\, Georgia\, 825 Hwy 138\, SE
CATEGORIES:Training
END:VEVENT
BEGIN:VEVENT
DTSTART;VALUE=DATE:20240101
DTEND;VALUE=DATE:20240102
DTSTAMP:20260420T211052
CREATED:20231223T121807Z
LAST-MODIFIED:20231223T121807Z
UID:13750-1704067200-1704153599@georgialegion.org
SUMMARY:HAPPY NEW YEAR LEGIONNAIRES
DESCRIPTION:MAKE IT THE BEST YEAR EVER
URL:https://georgialegion.org/events/happy-new-year-legionnaires/
LOCATION:IN
CATEGORIES:Family Events
END:VEVENT
END:VCALENDAR