BEGIN:VCALENDAR
VERSION:2.0
PRODID:-//American Legion Department of Georgia - ECPv6.15.20//NONSGML v1.0//EN
CALSCALE:GREGORIAN
METHOD:PUBLISH
X-WR-CALNAME:American Legion Department of Georgia
X-ORIGINAL-URL:https://georgialegion.org
X-WR-CALDESC:Events for American Legion Department of Georgia
REFRESH-INTERVAL;VALUE=DURATION:PT1H
X-Robots-Tag:noindex
X-PUBLISHED-TTL:PT1H
BEGIN:VTIMEZONE
TZID:America/New_York
BEGIN:DAYLIGHT
TZOFFSETFROM:-0500
TZOFFSETTO:-0400
TZNAME:EDT
DTSTART:20250309T070000
END:DAYLIGHT
BEGIN:STANDARD
TZOFFSETFROM:-0400
TZOFFSETTO:-0500
TZNAME:EST
DTSTART:20251102T060000
END:STANDARD
BEGIN:DAYLIGHT
TZOFFSETFROM:-0500
TZOFFSETTO:-0400
TZNAME:EDT
DTSTART:20260308T070000
END:DAYLIGHT
BEGIN:STANDARD
TZOFFSETFROM:-0400
TZOFFSETTO:-0500
TZNAME:EST
DTSTART:20261101T060000
END:STANDARD
BEGIN:DAYLIGHT
TZOFFSETFROM:-0500
TZOFFSETTO:-0400
TZNAME:EDT
DTSTART:20270314T070000
END:DAYLIGHT
BEGIN:STANDARD
TZOFFSETFROM:-0400
TZOFFSETTO:-0500
TZNAME:EST
DTSTART:20271107T060000
END:STANDARD
END:VTIMEZONE
BEGIN:VTIMEZONE
TZID:UTC
BEGIN:STANDARD
TZOFFSETFROM:+0000
TZOFFSETTO:+0000
TZNAME:UTC
DTSTART:20250101T000000
END:STANDARD
END:VTIMEZONE
BEGIN:VEVENT
DTSTART;VALUE=DATE:20260626
DTEND;VALUE=DATE:20260629
DTSTAMP:20260420T153513
CREATED:20250909T194453Z
LAST-MODIFIED:20260411T190520Z
UID:18782-1782432000-1782691199@georgialegion.org
SUMMARY:Department Of Georgia Annual Convention - June 2026
DESCRIPTION:Department Of Georgia 107th Annual Convention – DULUTH June 26 – 28 2026\nSonesta Gwinnett Place Atlanta (Non-Smoking Hotel)\n1775 Pleasant Hill Road\, Duluth\, GA 30096 (770-923-1775)\nDepartment Executive Committee Meeting -Thursday\, 25 June 2026 at 6:00 PM \nYou Must Make Your Own Room Reservations \nclick here for link to hotel reservations \nHOTEL RESERVATIONS: Dial 1-800-766-3782\nPayment Info: Provide debit/credit card info to the Sonesta Gwinnett Place Atlanta Hotel\n(Credit card will not be charged until check-in. You must contact the hotel within 72 hours of check-in to cancel your reservations or you will be charged. Room Rates: *Taxes\, fees\, and incidentals are not included.\nKING (1-K-bed) $130.00 or DOUBLE: (2-Q-beds) $130.00 \nDepartment Of Georgia Annual Convention 2026 \nDOG Convention AGENDA – OLD 2025 Agenda is shown as a DRAFT  until 2026 agenda is ready – click here \nThe 2026 Registration form is ready (NOTE: Hotel is $130\, not $125): Click the link: 107 Dept Convention Registration Form \nRegistration is $20 per person \nDEC meetings Thursday June 25th 2026 @ 6:PM and Sunday June 28th 2026 @ 10:AM. \nBanquet: Saturday evening\, June 27\, 2026\, $50 per person
URL:https://georgialegion.org/events/department-of-georgia-annual-convention-june-2026/
LOCATION:Sonesta Place\, 1775 Pleasant Hill Rd\,\, Duluth\, GA\, 30080\, United States
CATEGORIES:Community,Dept of GA
END:VEVENT
BEGIN:VEVENT
DTSTART;VALUE=DATE:20260828
DTEND;VALUE=DATE:20260904
DTSTAMP:20260420T153513
CREATED:20231207T184305Z
LAST-MODIFIED:20250318T174929Z
UID:12843-1787875200-1788479999@georgialegion.org
SUMMARY:NATIONAL CONVENTION - 2026 - Louisville\, Kentucky
DESCRIPTION:National Convention 28 Aug – 3 Sep 2026\, Louisville\, Kentucky \nLouisville Tourism – Click here
URL:https://georgialegion.org/events/national-convention-3/
LOCATION:Louisville\, Kentucky
CATEGORIES:Family Events
END:VEVENT
BEGIN:VEVENT
DTSTART;VALUE=DATE:20261005
DTEND;VALUE=DATE:20261009
DTSTAMP:20260420T153513
CREATED:20231207T183809Z
LAST-MODIFIED:20231207T183809Z
UID:12832-1791158400-1791503999@georgialegion.org
SUMMARY:NATIONAL FALL CONFERENCE
DESCRIPTION:National Fall Conference
URL:https://georgialegion.org/events/national-fall-conference/
LOCATION:Sheraton City Centre Hotel\, 31 West Ohio St\, Indianapolis\, IN\, 46204\, United States
CATEGORIES:Family Events
END:VEVENT
BEGIN:VEVENT
DTSTART;VALUE=DATE:20270827
DTEND;VALUE=DATE:20270903
DTSTAMP:20260420T153513
CREATED:20231207T183716Z
LAST-MODIFIED:20250318T175149Z
UID:12847-1819324800-1819929599@georgialegion.org
SUMMARY:NATIONAL CONVENTION - 2027 - Kansas City\, Missouri
DESCRIPTION:National Convention 27 Aug – 2 Sep 2027\, Kansas City\, Missouri \nVisit Kansas City – Click Here
URL:https://georgialegion.org/events/national-convention-2/
LOCATION:Louisville\, Kentucky
CATEGORIES:Family Events
END:VEVENT
BEGIN:VEVENT
DTSTART;VALUE=DATE:20280825
DTEND;VALUE=DATE:20280901
DTSTAMP:20260420T153513
CREATED:20231207T183516Z
LAST-MODIFIED:20250318T175024Z
UID:12850-1850774400-1851379199@georgialegion.org
SUMMARY:NATIONAL CONVENTION - 2028 - Columbus\, Ohio
DESCRIPTION:National Convention 25 -31 Aug 2028\, Columus\, Ohio \nVisit Columbus – click here
URL:https://georgialegion.org/events/national-convention/
LOCATION:Columbus\, Ohio
CATEGORIES:Family Events
END:VEVENT
END:VCALENDAR