BEGIN:VCALENDAR
VERSION:2.0
PRODID:-//American Legion Department of Georgia - ECPv6.15.20//NONSGML v1.0//EN
CALSCALE:GREGORIAN
METHOD:PUBLISH
X-ORIGINAL-URL:https://georgialegion.org
X-WR-CALDESC:Events for American Legion Department of Georgia
REFRESH-INTERVAL;VALUE=DURATION:PT1H
X-Robots-Tag:noindex
X-PUBLISHED-TTL:PT1H
BEGIN:VTIMEZONE
TZID:America/New_York
BEGIN:DAYLIGHT
TZOFFSETFROM:-0500
TZOFFSETTO:-0400
TZNAME:EDT
DTSTART:20240310T070000
END:DAYLIGHT
BEGIN:STANDARD
TZOFFSETFROM:-0400
TZOFFSETTO:-0500
TZNAME:EST
DTSTART:20241103T060000
END:STANDARD
BEGIN:DAYLIGHT
TZOFFSETFROM:-0500
TZOFFSETTO:-0400
TZNAME:EDT
DTSTART:20250309T070000
END:DAYLIGHT
BEGIN:STANDARD
TZOFFSETFROM:-0400
TZOFFSETTO:-0500
TZNAME:EST
DTSTART:20251102T060000
END:STANDARD
BEGIN:DAYLIGHT
TZOFFSETFROM:-0500
TZOFFSETTO:-0400
TZNAME:EDT
DTSTART:20260308T070000
END:DAYLIGHT
BEGIN:STANDARD
TZOFFSETFROM:-0400
TZOFFSETTO:-0500
TZNAME:EST
DTSTART:20261101T060000
END:STANDARD
BEGIN:DAYLIGHT
TZOFFSETFROM:-0500
TZOFFSETTO:-0400
TZNAME:EDT
DTSTART:20270314T070000
END:DAYLIGHT
BEGIN:STANDARD
TZOFFSETFROM:-0400
TZOFFSETTO:-0500
TZNAME:EST
DTSTART:20271107T060000
END:STANDARD
END:VTIMEZONE
BEGIN:VTIMEZONE
TZID:UTC
BEGIN:STANDARD
TZOFFSETFROM:+0000
TZOFFSETTO:+0000
TZNAME:UTC
DTSTART:20240101T000000
END:STANDARD
END:VTIMEZONE
BEGIN:VEVENT
DTSTART;VALUE=DATE:20250626
DTEND;VALUE=DATE:20250630
DTSTAMP:20260420T171402
CREATED:20250306T173354Z
LAST-MODIFIED:20250609T164112Z
UID:17346-1750896000-1751241599@georgialegion.org
SUMMARY:Department Of Georgia Annual Convention - 2025
DESCRIPTION:Department Of Georgia Annual Convention – DULUTH June 26 – 29 2025\nSonesta Gwinnett Place Atlanta (Non-Smoking Hotel)\n1775 Pleasant Hill Road\, Duluth\, GA 30096 (770-923-1775)\nDepartment Executive Committee Meeting -Thursday\, 26 June 2025 at 6:00 PM \nYou Must Make Your Own Room Reservations \nHOTEL RESERVATIONS: Dial 1-800-766-3782\nPayment Info: Provide debit/credit card info to the Sonesta Gwinnett Place Atlanta Hotel\n(Credit card will not be charged until check-in. You must contact the hotel within 72 hours of check-in to cancel your reservations or you will be charged. Room Rates: *Taxes\, fees\, and incidentals are not included.\nKING (1-K-bed) $125.00 or DOUBLE: (2-Q-beds) $125.00 \nDepartment Of Georgia Annual Convention 2025 \nDOG Convention AGENDA – as of 6 June 2025 – click here \nFillable Registration form: Click the link: 106 Dept Convention Registration Form \nRegistration is $20 per person \nDEC meetings Thursday June 26th 2025 @ 6:PM and Sunday June 29th 2025 @ 10:AM. \nBanquet: Saturday evening\, June 28\, 2025\, $45 per person \nDetails to follow!
URL:https://georgialegion.org/events/conference/
LOCATION:Sonesta Place\, 1775 Pleasant Hill Rd\,\, Duluth\, GA\, 30080\, United States
CATEGORIES:Community,Dept of GA
END:VEVENT
BEGIN:VEVENT
DTSTART;VALUE=DATE:20250822
DTEND;VALUE=DATE:20250829
DTSTAMP:20260420T171402
CREATED:20250306T225552Z
LAST-MODIFIED:20250707T145116Z
UID:17361-1755820800-1756425599@georgialegion.org
SUMMARY:NATIONAL CONVENTION - 2025 - Tampa Bay\, Florida
DESCRIPTION:National Convention beginning on August 22-28\, 2025\,Tampa\, Florida. \nSee National’s page for more info – https://www.legion.org/get-involved/meetings/national-convention \nDOG Registration Form – National Convention – Tampa – click here\nDeadline for action with DOG registration form is 21 July 2025
URL:https://georgialegion.org/events/national-convention-6/
LOCATION:Convention Center\, 333 S Franklin St\, Tampa\, FL\, United States
CATEGORIES:Community,DEC,Dept of GA
END:VEVENT
BEGIN:VEVENT
DTSTART;VALUE=DATE:20251006
DTEND;VALUE=DATE:20251010
DTSTAMP:20260420T171402
CREATED:20231207T184448Z
LAST-MODIFIED:20231207T184448Z
UID:12829-1759708800-1760054399@georgialegion.org
SUMMARY:NATIONAL FALL CONFERENCE
DESCRIPTION:National Fall Conference
URL:https://georgialegion.org/events/national-fall-conference-2/
LOCATION:Sheraton City Centre Hotel\, 31 West Ohio St\, Indianapolis\, IN\, 46204\, United States
CATEGORIES:Family Events
END:VEVENT
BEGIN:VEVENT
DTSTART;VALUE=DATE:20251113
DTEND;VALUE=DATE:20251117
DTSTAMP:20260420T171402
CREATED:20250929T142205Z
LAST-MODIFIED:20251105T194233Z
UID:18821-1762992000-1763337599@georgialegion.org
SUMMARY:Georgia Legion College (GLC) - Nov 2025
DESCRIPTION:TO:  All Members of the American Legion Department of Georgia that may be concerned\nThe Department of Georgia is officially announcing the 2025 dates and details for the Georgia Legion College (GLC) as approved by the Department Commander. \nThe GLC course dates are November 13th – 16th\, 2025\, Thursday – Sunday in Warner Robins\, Ga. \nThe Georgia Legion College curriculum is designed to enhance knowledge and appreciation of The American Legion\, while teaching the core values and contributions of the organization.  It prepares Legionnaires to take on more responsibility. \nAlmost all the past Legion College graduates have gone on to become leaders at all levels in the Department and even at the National level.  Selection and attendance are an honor within the American Legion. \nWarner Robins Post 594\, 1523 Moody Street\, Warner Robins\, GA 30106\, has graciously offered to host the GLC training in their Post.  They will also work with the GLC to provide lunch on Friday and Saturday.  (Thank you\, Post 594!) \nEach District Commander shall select two (2) individuals to attend the college.  You may also nominate an alternate.  Should another District not be able to fill its authorized slots\, an alternate from another District may be selected. \nThere is a $100 Registration Fee for each attendee.  Checks must be made payable to “The Department of Georgia”.  The fee may be paid by the attendee\, their Post\, or their District. Checks should be mailed to the Dean at:  3950 Glenhurst Drive\, SE\, Smyrna\, GA 30080-5896 \nDistrict Commanders must select Legionnaires (including Alternates) who meet the following qualifications: \n(1)  Has completed the online American Legion Basic Training Course and has obtained a Certificate of Completion.  Course completion should be no later than the date their name is submitted.  Send a copy of the Completion Certificate with the Registration Fee check.\n(2)  Has leadership abilities\, is a go-getter\, and has the desire to serve and move up at the Post\, District\, or Department level.\n(3)  Has made a commitment to the District Commander to be involved in The American Legion for some time to come. \n(4)  Has a valid 2025 Membership card. \nSubmit the names of those you have selected to the College Dean as soon as selected\, but no later than Friday\, October 24\, 2025.  When submitting\, please include their phone number\, email address\, and shirt size. \nLodging will be at the Wingate By Wyndham Hotel\, 4031 Watson Boulevard\, Warner Robins\, GA 31093. Hotel rooms for participants are provided by the Department at no cost to attendees.  Attendees (or the District Commander) must contact the GLC Dean to reserve their room.  The hotel has blocked rooms for us with 2 Queen beds or 1 King bed.  Please specify your choice when you notify the Dean. Rooms are normally single occupancy unless attendees wish to share a room.  In that case\, please let the Dean know that fact.  The hotel provides a free hot breakfast each morning.  Attendees are encouraged to take advantage of this before class. \nCheck-in should be made on Thursday afternoon by 1500.  There will be an opening meeting and an informal meet and greet in the hotel late Thursday afternoon.  Further instructions for the weekend will be provided there. \nTravel expenses to and from Warner Robins are the responsibility of the attendees.  (Posts and / or Districts may authorize reimbursement should they choose to do so.) \nThe GLC will begin Friday morning\, November 14\, 2025.  Classes for the day will conclude in the late afternoon. \nWarner Robins Post 172 is planning a “Steak Night” dinner on Friday for us.  (Thank you Post 172!)  Let’s plan on enjoying a great dinner meal and camaraderie together with a local Post.  The cost per GLC attendee will only be $10\, with the GLC paying the additional cost directly to the Post for the meal. \nThe GLC will resume on Saturday morning\, September 16\, with classes all day.  Dinner on Saturday is (at this time) on your own. \nFinal classes will take place on Sunday morning\, November 16\, 2025.  Graduation will take place before Noon. \nThe dress for the college is Legion Casual (Legion Polo and slacks).  Attendees are encouraged to bring a light jacket or sweater for cool or inclement weather. \nIf you have any questions\, please do not hesitate to contact the Chancellor of the College\, Department Adjutant Jim Fultz\, or myself.  Fultz’s phone number is: 470-707-8469.  His email address is: jimfultz@georgialegion.org \nWade S. Lnenicka\nDean\nDepartment of Georgia\nGeorgia Legion College\n(M) 770-312-2377 \n(E) wadelnenicka@gmail.com
URL:https://georgialegion.org/events/georgia-legion-college-glc-nov-2025/
LOCATION:Warner Robins Post 594\, 1523 Moody Street\, Warner Robins\, GA\, 30106\, United States
CATEGORIES:Education,Training
ORGANIZER;CN="Wade S. Lnenicka":MAILTO:wadelnenicka@gmail.com
END:VEVENT
BEGIN:VEVENT
DTSTART;VALUE=DATE:20260130
DTEND;VALUE=DATE:20260201
DTSTAMP:20260420T171402
CREATED:20250909T195543Z
LAST-MODIFIED:20260118T210906Z
UID:18785-1769731200-1769903999@georgialegion.org
SUMMARY:Department of Georgia - Mid-Winter Conference - Jan 2026
DESCRIPTION:DEPARTMENT Mid-Winter CONFERENCE – DULUTH – 30 Jan 26 – 1 Feb 26\nSonesta Gwinnett Place Atlanta (Non-Smoking Hotel)\n1775 Pleasant Hill Road\, Duluth\, GA 30096 (770-923-1775)\nDepartment Executive Committee Meeting -Thursday\, 29 Jan 26 at 6:00 PM \nUPDATED (as of 18 Jan) Mid-Winter Conf agenda has been published – CLICK LINK \nYou Must Make Your Own Room Reservations \nHOTEL RESERVATIONS: Dial 1-800-766-3782 – Hotel Booking link: Booking for The American Legion January 2026 Conf\nPayment Info: Provide debit/credit card info to the Sonesta Gwinnett Place Atlanta Hotel\n(Credit card will not be charged until check-in. You must contact the hotel within 72 hours of check-in\nto cancel your reservations or you will be charged). Room Rates: *Taxes\, fees\, and incidentals not included.\nKING (1-K-bed) $125.00 or DOUBLE: (2-Q-beds) $125.00 \nDepartment of Georgia Mid-Winter Conference 2026 \nTo download a copy of the Mid-Winter Conference form use this link – Mid-Winter 2026 Registration Form – 01-29-2026 \nRegistration $20 per person \nDEC meetings Thursday 29 Jan 2026 @ 6:PM and Sunday 1 Feb 26 @ 10:AM. \nBanquet 31 Jan 2026 – $50 per person
URL:https://georgialegion.org/events/department-of-georgia-mid-winter-conference-jan-2026/
LOCATION:Sonesta Place\, 1775 Pleasant Hill Rd\,\, Duluth\, GA\, 30080\, United States
CATEGORIES:Dept of GA,Family Events
ORGANIZER;CN="Jim Fultz":MAILTO:jefultz1@yahoo.com
END:VEVENT
BEGIN:VEVENT
DTSTART;VALUE=DATE:20260222
DTEND;VALUE=DATE:20260227
DTSTAMP:20260420T171402
CREATED:20231207T184357Z
LAST-MODIFIED:20241211T162940Z
UID:12823-1771718400-1772150399@georgialegion.org
SUMMARY:NATIONAL WINTER CONFERENCE
DESCRIPTION:National Winter Conference
URL:https://georgialegion.org/events/national-winter-conference/
LOCATION:Washington DC\, 1919 Connecticut Ave NW\, Washington DC\, DC\, United States
CATEGORIES:Family Events
END:VEVENT
BEGIN:VEVENT
DTSTART;VALUE=DATE:20260626
DTEND;VALUE=DATE:20260629
DTSTAMP:20260420T171402
CREATED:20250909T194453Z
LAST-MODIFIED:20260411T190520Z
UID:18782-1782432000-1782691199@georgialegion.org
SUMMARY:Department Of Georgia Annual Convention - June 2026
DESCRIPTION:Department Of Georgia 107th Annual Convention – DULUTH June 26 – 28 2026\nSonesta Gwinnett Place Atlanta (Non-Smoking Hotel)\n1775 Pleasant Hill Road\, Duluth\, GA 30096 (770-923-1775)\nDepartment Executive Committee Meeting -Thursday\, 25 June 2026 at 6:00 PM \nYou Must Make Your Own Room Reservations \nclick here for link to hotel reservations \nHOTEL RESERVATIONS: Dial 1-800-766-3782\nPayment Info: Provide debit/credit card info to the Sonesta Gwinnett Place Atlanta Hotel\n(Credit card will not be charged until check-in. You must contact the hotel within 72 hours of check-in to cancel your reservations or you will be charged. Room Rates: *Taxes\, fees\, and incidentals are not included.\nKING (1-K-bed) $130.00 or DOUBLE: (2-Q-beds) $130.00 \nDepartment Of Georgia Annual Convention 2026 \nDOG Convention AGENDA – OLD 2025 Agenda is shown as a DRAFT  until 2026 agenda is ready – click here \nThe 2026 Registration form is ready (NOTE: Hotel is $130\, not $125): Click the link: 107 Dept Convention Registration Form \nRegistration is $20 per person \nDEC meetings Thursday June 25th 2026 @ 6:PM and Sunday June 28th 2026 @ 10:AM. \nBanquet: Saturday evening\, June 27\, 2026\, $50 per person
URL:https://georgialegion.org/events/department-of-georgia-annual-convention-june-2026/
LOCATION:Sonesta Place\, 1775 Pleasant Hill Rd\,\, Duluth\, GA\, 30080\, United States
CATEGORIES:Community,Dept of GA
END:VEVENT
BEGIN:VEVENT
DTSTART;VALUE=DATE:20260828
DTEND;VALUE=DATE:20260904
DTSTAMP:20260420T171402
CREATED:20231207T184305Z
LAST-MODIFIED:20250318T174929Z
UID:12843-1787875200-1788479999@georgialegion.org
SUMMARY:NATIONAL CONVENTION - 2026 - Louisville\, Kentucky
DESCRIPTION:National Convention 28 Aug – 3 Sep 2026\, Louisville\, Kentucky \nLouisville Tourism – Click here
URL:https://georgialegion.org/events/national-convention-3/
LOCATION:Louisville\, Kentucky
CATEGORIES:Family Events
END:VEVENT
BEGIN:VEVENT
DTSTART;VALUE=DATE:20261005
DTEND;VALUE=DATE:20261009
DTSTAMP:20260420T171402
CREATED:20231207T183809Z
LAST-MODIFIED:20231207T183809Z
UID:12832-1791158400-1791503999@georgialegion.org
SUMMARY:NATIONAL FALL CONFERENCE
DESCRIPTION:National Fall Conference
URL:https://georgialegion.org/events/national-fall-conference/
LOCATION:Sheraton City Centre Hotel\, 31 West Ohio St\, Indianapolis\, IN\, 46204\, United States
CATEGORIES:Family Events
END:VEVENT
BEGIN:VEVENT
DTSTART;VALUE=DATE:20270827
DTEND;VALUE=DATE:20270903
DTSTAMP:20260420T171402
CREATED:20231207T183716Z
LAST-MODIFIED:20250318T175149Z
UID:12847-1819324800-1819929599@georgialegion.org
SUMMARY:NATIONAL CONVENTION - 2027 - Kansas City\, Missouri
DESCRIPTION:National Convention 27 Aug – 2 Sep 2027\, Kansas City\, Missouri \nVisit Kansas City – Click Here
URL:https://georgialegion.org/events/national-convention-2/
LOCATION:Louisville\, Kentucky
CATEGORIES:Family Events
END:VEVENT
BEGIN:VEVENT
DTSTART;VALUE=DATE:20280825
DTEND;VALUE=DATE:20280901
DTSTAMP:20260420T171402
CREATED:20231207T183516Z
LAST-MODIFIED:20250318T175024Z
UID:12850-1850774400-1851379199@georgialegion.org
SUMMARY:NATIONAL CONVENTION - 2028 - Columbus\, Ohio
DESCRIPTION:National Convention 25 -31 Aug 2028\, Columus\, Ohio \nVisit Columbus – click here
URL:https://georgialegion.org/events/national-convention/
LOCATION:Columbus\, Ohio
CATEGORIES:Family Events
END:VEVENT
END:VCALENDAR