BEGIN:VCALENDAR
VERSION:2.0
PRODID:-//American Legion Department of Georgia - ECPv6.15.20//NONSGML v1.0//EN
CALSCALE:GREGORIAN
METHOD:PUBLISH
X-WR-CALNAME:American Legion Department of Georgia
X-ORIGINAL-URL:https://georgialegion.org
X-WR-CALDESC:Events for American Legion Department of Georgia
REFRESH-INTERVAL;VALUE=DURATION:PT1H
X-Robots-Tag:noindex
X-PUBLISHED-TTL:PT1H
BEGIN:VTIMEZONE
TZID:America/New_York
BEGIN:DAYLIGHT
TZOFFSETFROM:-0500
TZOFFSETTO:-0400
TZNAME:EDT
DTSTART:20230312T070000
END:DAYLIGHT
BEGIN:STANDARD
TZOFFSETFROM:-0400
TZOFFSETTO:-0500
TZNAME:EST
DTSTART:20231105T060000
END:STANDARD
BEGIN:DAYLIGHT
TZOFFSETFROM:-0500
TZOFFSETTO:-0400
TZNAME:EDT
DTSTART:20240310T070000
END:DAYLIGHT
BEGIN:STANDARD
TZOFFSETFROM:-0400
TZOFFSETTO:-0500
TZNAME:EST
DTSTART:20241103T060000
END:STANDARD
BEGIN:DAYLIGHT
TZOFFSETFROM:-0500
TZOFFSETTO:-0400
TZNAME:EDT
DTSTART:20250309T070000
END:DAYLIGHT
BEGIN:STANDARD
TZOFFSETFROM:-0400
TZOFFSETTO:-0500
TZNAME:EST
DTSTART:20251102T060000
END:STANDARD
BEGIN:DAYLIGHT
TZOFFSETFROM:-0500
TZOFFSETTO:-0400
TZNAME:EDT
DTSTART:20260308T070000
END:DAYLIGHT
BEGIN:STANDARD
TZOFFSETFROM:-0400
TZOFFSETTO:-0500
TZNAME:EST
DTSTART:20261101T060000
END:STANDARD
END:VTIMEZONE
BEGIN:VTIMEZONE
TZID:UTC
BEGIN:STANDARD
TZOFFSETFROM:+0000
TZOFFSETTO:+0000
TZNAME:UTC
DTSTART:20230101T000000
END:STANDARD
END:VTIMEZONE
BEGIN:VEVENT
DTSTART;TZID=America/New_York:20250517T070000
DTEND;TZID=America/New_York:20250517T120000
DTSTAMP:20260421T002312
CREATED:20250403T170245Z
LAST-MODIFIED:20250403T170245Z
UID:18041-1747465200-1747483200@georgialegion.org
SUMMARY:15th Annual All American 5k/10k Run & Walk - Fundraiser - Peachtree City
DESCRIPTION:15th Annual All-American 5K/10K Run & Walk \nHonoring Our Veterans and Youth \n15th Annual All American 5K/10K \nHosted by American Legion Post 50 & The Peachtree City Running Club\nThe Course – The All-American is exceptionally different in that it uses neighborhood golf cart paths for the race.  This scenic race winds its way through neighborhood green belt areas\, offering views of scenic Peachtree City lakes\, woods\, and recreation areas that make the planned community of Peachtree City a great place to live. \n7am Registration Opens – – – 8:00am\, 10K Run – – –  8:30am\, 5K Run/Walk \nRegistration – – Register ONLINE at www.active.com or download a registration form from our site – FORM HERE (forms may be photocopied) and mail it in.  Entries must be received no later than May 3rd.  RACE DAY REGISTRATION is permitted.  However\, there is no guarantee of receiving the high-quality high tech T-Shirt. \nMAIL Registration Form to:   American Legion Post 50\,  Attn: All American Race\,  P.O. Box 3692\,  Peachtree City\, GA 30269 \nAwards – – Overall awards will be presented to the top 3 Male/Female finishers.  Awards will also be presented to the top 3 Male/Female in the following age groups:  5K: 8 & Under\, 10 & under\, 12 & under.  5 & 10K: 14 & under\, \n15-19\, 20-24\, 25-29\, 30-34\, 35-39\, 40-44\, 45-49\, 50-54\, 55-59\, 60-64\, 65-69\, 70-74\, 75 and over. \nWalkers – – Fitness walkers are welcome in the Men’s and Women’s 5k event only.  5k Race course will close at 10:00 AM. \nPacket Pick-Up – – Race packets may be picked beginning at 7:00 AM on race day at the registration table located in the Frederick Brown Amphitheater parking lot located on McIntosh Trail in Peachtree City\, GA. \nLogistics – – All races will start and finish at the Frederick Brown Amphitheater \nRestrictions – – For the safety of our participants\, inline skates\, skateboards and bicycles are prohibited.  Headphones\, baby joggers\, and dogs are strongly discouraged on the course.  No motorized vehicles/wheelchairs are allowed due to the narrow cart paths. \nContact Information: \nRace Director:  Leigh Blood        Email:  galegionpost50@gmail.com      Phone:  404-775-9697 \nIn the event of an emergency:  911 or 404-775-9697
URL:https://georgialegion.org/events/15th-annual-all-american-5k-10k-run-walk-fundraiser-peachtree-city/
LOCATION:American Legion Post 50\, 201 McIntosh Trail\, Peachtree City\, Georgia\, 30269
END:VEVENT
BEGIN:VEVENT
DTSTART;TZID=America/New_York:20250514T083000
DTEND;TZID=America/New_York:20250514T160000
DTSTAMP:20260421T002312
CREATED:20250401T192314Z
LAST-MODIFIED:20250401T192314Z
UID:18008-1747211400-1747238400@georgialegion.org
SUMMARY:Veteran Expo - Augusta
DESCRIPTION:A Veterans outreach event – will be held 8:30am to 4pm\, at the WT Johnson Center\, 1610 Hunter Street\, Augusta\, GA 30901 \nVeterans Benefits Administration (VBA) in partnership with Veterans Health Administration (VHA) and National Cemetery Administration (NCA) while working with Georgia Department of Veterans Services\, and Dept of Labor will host a one-stop shop to support Veterans\, families\, transitioning service members\, and caregivers.
URL:https://georgialegion.org/events/veteran-expo-augusta/
LOCATION:WT Johnson Center\, 1610 Hunter Street\, Augusta\, GA\, 30901\, United States
END:VEVENT
BEGIN:VEVENT
DTSTART;VALUE=DATE:20250505
DTEND;VALUE=DATE:20250509
DTSTAMP:20260421T002312
CREATED:20231207T184540Z
LAST-MODIFIED:20231207T184540Z
UID:12814-1746403200-1746748799@georgialegion.org
SUMMARY:NATIONAL SPRING CONFERENCE
DESCRIPTION:National Spring Conference
URL:https://georgialegion.org/events/national-spring-conference-2/
LOCATION:Sheraton City Centre Hotel\, 31 West Ohio St\, Indianapolis\, IN\, 46204\, United States
CATEGORIES:Family Events
END:VEVENT
BEGIN:VEVENT
DTSTART;TZID=America/New_York:20250427T093000
DTEND;TZID=America/New_York:20250427T170000
DTSTAMP:20260421T002312
CREATED:20250403T161419Z
LAST-MODIFIED:20250403T164438Z
UID:18030-1745746200-1745773200@georgialegion.org
SUMMARY:Veteran Homelessness Ride and Benefit - Fundraiser - Douglasville
DESCRIPTION:Department of Georgia American Legion Riders\n(A required Chapter Participation Recognition Ride – must have at least one member at the ride to get credit)\nVeteran Homelessness Ride & Benefit\nA benefit for the VA Veterans Transition From Homelessness and Mental Disabilities program at Ft McPherson. $30 per bike.\n\nRegistration at 9:30am – 10:30am\, Kickstands Up (KSU) at 11am\nDonation of $30 a bike – includes (vest pin) – shirts sold separately\, 50/50 raffle and auction tickets for sale\nLunch will be served after the ride\n\nClick on this link to see Flyer\n\nLocation:  Post 145\, Douglasville\nContact:  Thea Fultz – 678-787-9818
URL:https://georgialegion.org/events/veteran-homelessness-ride-and-benefit-fundraiser-douglasville/
LOCATION:American Legino Post 145\, 13141 Veterans Memorial Hwy\, Douglasville\, Georgia
END:VEVENT
BEGIN:VEVENT
DTSTART;TZID=America/New_York:20250426T180000
DTEND;TZID=America/New_York:20250426T200000
DTSTAMP:20260421T002312
CREATED:20250401T191840Z
LAST-MODIFIED:20250401T191840Z
UID:18004-1745690400-1745697600@georgialegion.org
SUMMARY:Fundraiser Ball - Augusta
DESCRIPTION:
URL:https://georgialegion.org/events/fundraiser-ball-augusta/
LOCATION:American Legion Post 63\, 90 Milledge Road\, Augusta\, GA\, 30904\, United States
END:VEVENT
BEGIN:VEVENT
DTSTART;TZID=America/New_York:20250426T110000
DTEND;TZID=America/New_York:20250426T150000
DTSTAMP:20260421T002312
CREATED:20250401T191144Z
LAST-MODIFIED:20250401T191551Z
UID:18000-1745665200-1745679600@georgialegion.org
SUMMARY:Carnival Fund Raiser - Augusta
DESCRIPTION:
URL:https://georgialegion.org/events/carnival-fund-raiser-augusta/
LOCATION:American Legion Post 178\, 3219 Richmond Hill Rd.\, Augusta\, GA\, 30906\, United States
END:VEVENT
BEGIN:VEVENT
DTSTART;TZID=America/New_York:20250405T083000
DTEND;TZID=America/New_York:20250405T190000
DTSTAMP:20260421T002312
CREATED:20250403T160506Z
LAST-MODIFIED:20250403T162016Z
UID:18024-1743841800-1743879600@georgialegion.org
SUMMARY:2nd Annual In-State Legacy Ride - fundraiser - Milledgeville/Lincolnton
DESCRIPTION:Department of Georgia American Legion Riders\n(A required Chapter Participation Recognition Ride – must have at least one member at the ride to get credit)\n2nd Annual In-State Legacy Ride\nRegistration is from 8:30 to 10:30 (breakfast is provided)\, Post 6\, Milledgeville\, GA.  Ride from Milledgeville to GA War Nursing Home in Augusta (to visit residents)\, then a scenic Clarks Hill ride to Post 71 for a light lunch\, then a ride to a nursing home\, ending at Post 194 in Lincolnton for dinner (and more). \nClick to see Flyer  \nContact – Gabriele Barnett\, 706-951-3906\, dogairdirector@gmail.com 
URL:https://georgialegion.org/events/2nd-annual-in-state-legacy-ride-fundraiser-milledgeville-lincolnton/
LOCATION:American Legion Post 6\, Milledgeville\, GA\, United States
END:VEVENT
BEGIN:VEVENT
DTSTART;VALUE=DATE:20250321
DTEND;VALUE=DATE:20250324
DTSTAMP:20260421T002312
CREATED:20240705T104900Z
LAST-MODIFIED:20250316T165505Z
UID:16065-1742515200-1742774399@georgialegion.org
SUMMARY:DEPARTMENT OF GEORGIA-SPRING CONFERENCE 2024/25
DESCRIPTION:DEPARTMENT SPRING CONFERENCE – DULUTH MARCH 21. 22. 23. 2025\nSonesta Gwinnett Place Atlanta (Non-Smoking Hotel)\n1775 Pleasant Hill Road\, Duluth\, GA 30096 (770-923-1775)\nDepartment Executive Committee Meeting -Thursday\, 20 March 2025 at 6:00 PM \nSPRING CONFERENCE AGENDA – CLICK LINK \nYou Must Make Your Own Room Reservations \nHOTEL RESERVATIONS: Dial 1-800-766-3782\nPayment Info: Provide debit/credit card info to the Sonesta Gwinnett Place Atlanta Hotel\n(Credit card will not be charged until check in. You must contact the hotel within 72 hours of check-in\nto cancel your reservations or you will be charged). Room Rates: *Taxes\, fees\, incidentals\, not included.\nKING (1-K-bed) $115.00 or DOUBLE: (2-Q-beds) $115.00 \nDepartment of Georgia Spring Conference 2024/25 \nFillable Registration form Click link: 2412-27 DOG Spring Conference \nRegistration $20 per person \nDEC meetings Thursday March 20th 2025 @ 6:PM and Sunday March 23rd\, 2025 @ 10:AM. \nBanquet March 22\, 2025-$45 per person
URL:https://georgialegion.org/events/not-workng-se-below/
LOCATION:Sonesta Place\, 1775 Pleasant Hill Rd\,\, Duluth\, GA\, 30080\, United States
CATEGORIES:Dept of GA,Family Events
END:VEVENT
BEGIN:VEVENT
DTSTART;VALUE=DATE:20250222
DTEND;VALUE=DATE:20250227
DTSTAMP:20260421T002312
CREATED:20231207T184628Z
LAST-MODIFIED:20250120T005120Z
UID:12820-1740182400-1740614399@georgialegion.org
SUMMARY:NATIONAL MID-WINTER CONFERENCE 2024/25
DESCRIPTION:National Winter Conference
URL:https://georgialegion.org/events/national-winter-conference-2/
LOCATION:Washingtom DC Hilton\, 1919 Connecticut Ave NW\, Washington DC\, 20009\, United States
CATEGORIES:Washington DC Conference
END:VEVENT
BEGIN:VEVENT
DTSTART;TZID=America/New_York:20250128T190000
DTEND;TZID=America/New_York:20250128T203000
DTSTAMP:20260421T002312
CREATED:20241008T090600Z
LAST-MODIFIED:20241008T090600Z
UID:16660-1738090800-1738096200@georgialegion.org
SUMMARY:NATIONAL TRAINING TUESDAYS
DESCRIPTION:TRAINING TUESDAYS \nThe last Tuesday monthly \nSubject matter changes monthly \nhttps://www.legion.org/sitesearch?s=training+tuesdays
URL:https://georgialegion.org/events/national-training-tuesdays-4/
LOCATION:GA
CATEGORIES:Education,Training
END:VEVENT
BEGIN:VEVENT
DTSTART;VALUE=DATE:20250115
DTEND;VALUE=DATE:20250120
DTSTAMP:20260421T002312
CREATED:20240702T114757Z
LAST-MODIFIED:20250104T111538Z
UID:16026-1736899200-1737331199@georgialegion.org
SUMMARY:NATIONAL COMMANDER'S VISIT
DESCRIPTION:Click link for hotel reservation: https://be.synxis.com/?Hotel=58939&Chain=5157&arrive=2025-01-15&depart=2025-01-19&adult=1&child=0&group=01152025THEA \nNational Commander’s visit to the Dept of Georgia \n01/15/24-ARRIVE GEORGIA (WEDNESDAY) \n01/16- \n01/17- \n01/18 \n01/19-DEPART GEORGIA (SUNDAY) \nMORE TO COME LATER
URL:https://georgialegion.org/events/national-commanders-visit/
LOCATION:GA
CATEGORIES:National Visit
END:VEVENT
BEGIN:VEVENT
DTSTART;TZID=America/New_York:20250109T130000
DTEND;TZID=America/New_York:20250109T160000
DTSTAMP:20260421T002312
CREATED:20240913T154233Z
LAST-MODIFIED:20240913T154233Z
UID:16451-1736427600-1736438400@georgialegion.org
SUMMARY:HOSPITAL VISIT
DESCRIPTION:LAKE CITY VA MEDICAL CENTER
URL:https://georgialegion.org/events/hospital-visit-10/
LOCATION:GA
END:VEVENT
BEGIN:VEVENT
DTSTART;TZID=America/New_York:20241231T190000
DTEND;TZID=America/New_York:20241231T203000
DTSTAMP:20260421T002312
CREATED:20241008T090427Z
LAST-MODIFIED:20241008T090427Z
UID:16658-1735671600-1735677000@georgialegion.org
SUMMARY:NATIONAL TRAINING TUESDAYS
DESCRIPTION:TRAINING TUESDAYS \nThe last Tuesday monthly \nSubject matter changes monthly \nhttps://www.legion.org/sitesearch?s=training+tuesdays
URL:https://georgialegion.org/events/national-training-tuesdays-2/
LOCATION:GA
CATEGORIES:Education,Training
END:VEVENT
BEGIN:VEVENT
DTSTART;TZID=America/New_York:20241228T000000
DTEND;TZID=America/New_York:20250131T000000
DTSTAMP:20260421T002312
CREATED:20241228T223526Z
LAST-MODIFIED:20241228T223740Z
UID:17031-1735344000-1738281600@georgialegion.org
SUMMARY:Mel Event
DESCRIPTION:Mel Event
URL:https://georgialegion.org/events/mel-event-2/
LOCATION:Green Lake Conference Center\, 2197 Winifred Way\, Anderson\, IN\, 46016\, United States
END:VEVENT
BEGIN:VEVENT
DTSTART;TZID=America/New_York:20241217T080000
DTEND;TZID=America/New_York:20241217T170000
DTSTAMP:20260421T002312
CREATED:20241217T203929Z
LAST-MODIFIED:20241217T203929Z
UID:16946-1734422400-1734454800@georgialegion.org
SUMMARY:Spring Conference
DESCRIPTION:Spring Conference
URL:https://georgialegion.org/events/spring-conference/
LOCATION:GA
END:VEVENT
BEGIN:VEVENT
DTSTART;TZID=America/New_York:20241214T110000
DTEND;TZID=America/New_York:20241214T120000
DTSTAMP:20260421T002312
CREATED:20240213T110250Z
LAST-MODIFIED:20240213T110250Z
UID:15057-1734174000-1734177600@georgialegion.org
SUMMARY:Wreaths Across America
DESCRIPTION:Wreaths Across America
URL:https://georgialegion.org/events/wreaths-across-america/
LOCATION:National
CATEGORIES:Community,Education,Family Events
END:VEVENT
BEGIN:VEVENT
DTSTART;TZID=America/New_York:20241207T090000
DTEND;TZID=America/New_York:20241207T120000
DTSTAMP:20260421T002312
CREATED:20240913T154129Z
LAST-MODIFIED:20240913T154129Z
UID:16449-1733562000-1733572800@georgialegion.org
SUMMARY:HOSPITAL VISIT
DESCRIPTION:AUGUSTA GEORGIA WAR VETERANS NURSING HOME
URL:https://georgialegion.org/events/hospital-visit-9/
LOCATION:GA
END:VEVENT
BEGIN:VEVENT
DTSTART;TZID=America/New_York:20241206T090000
DTEND;TZID=America/New_York:20241206T120000
DTSTAMP:20260421T002312
CREATED:20240913T154018Z
LAST-MODIFIED:20240913T154018Z
UID:16447-1733475600-1733486400@georgialegion.org
SUMMARY:HOSPITAL VISIT
DESCRIPTION:AUGUSTA VA MEDICAL CENTER
URL:https://georgialegion.org/events/hospital-visit-8/
LOCATION:GA
END:VEVENT
BEGIN:VEVENT
DTSTART;TZID=America/New_York:20241205T120000
DTEND;TZID=America/New_York:20241208T070000
DTSTAMP:20260421T002312
CREATED:20241001T140355Z
LAST-MODIFIED:20241001T140444Z
UID:16626-1733400000-1733641200@georgialegion.org
SUMMARY:2025-26 LEADING CANDIDATE DAN WILEY VISIT
DESCRIPTION:Leading Candidate for The National Commander\, 2025/26-Visit to the Dept of Georgia \nI am pleased to announce that Dan Wiley\, the leading candidate for National Commander (2025-2026) will visit Georgia in December.  He will arrive in the afternoon of December 5\, 2024\, and depart on the morning of December 8\, 2024.  He will be arriving in Augusta\, and he will participate with us as we do our annual Hospital visits there.\n\nPlease mark this visit and events on your calendar.  The 11th District Commander will be the primary coordinator for this visit. More information will be forthcoming.\nCommander Jim Fultz
URL:https://georgialegion.org/events/2025-26-leading-candidate-dan-wiley-visit/
LOCATION:Dept Of Georgia\, 3035 Mt Zion Rd\, Stockbridge\, GA\, 30281-4101\, United States
CATEGORIES:Community,Dept of GA,National Visit
ORGANIZER;CN="Thomasena Sanderlin":MAILTO:thomasena43@yahoo.com
END:VEVENT
BEGIN:VEVENT
DTSTART;TZID=America/New_York:20241126T190000
DTEND;TZID=America/New_York:20241126T203000
DTSTAMP:20260421T002312
CREATED:20241008T090218Z
LAST-MODIFIED:20241008T090218Z
UID:16656-1732647600-1732653000@georgialegion.org
SUMMARY:NATIONAL TRAINING TUESDAYS
DESCRIPTION:TRAINING TUESDAYS \nThe last Tuesday monthly \nSubject matter changes monthly \nhttps://www.legion.org/sitesearch?s=training+tuesdays
URL:https://georgialegion.org/events/national-training-tuesdays-3/
LOCATION:GA
CATEGORIES:Education,Training
END:VEVENT
BEGIN:VEVENT
DTSTART;VALUE=DATE:20241117
DTEND;VALUE=DATE:20241123
DTSTAMP:20260421T002312
CREATED:20240425T102758Z
LAST-MODIFIED:20240425T103628Z
UID:15522-1731801600-1732319999@georgialegion.org
SUMMARY:NATIONAL LEGION COLLEGE
DESCRIPTION:NATIONAL LEGION COLLEGE \nApplication link: https://www.legion.org/college/application \n 
URL:https://georgialegion.org/events/national-legion-college/
LOCATION:National Headquarters\, 700 North Pennsylvania Street\, Indianapolis\, IN\, United States
CATEGORIES:Education,Training
ORGANIZER;CN="Ken George":MAILTO:kgeorge@legion.org
END:VEVENT
BEGIN:VEVENT
DTSTART;TZID=America/New_York:20241115T120000
DTEND;TZID=America/New_York:20241117T150000
DTSTAMP:20260421T002312
CREATED:20240923T174341Z
LAST-MODIFIED:20240923T180311Z
UID:16561-1731672000-1731855600@georgialegion.org
SUMMARY:GEORGIA LEGION COLLEGE
DESCRIPTION:Georgia Legion College \nClick this link:-https://docs.google.com/forms/d/e/ \nDON’T CLICK-1FAIpQLSeFAKThr0Vq8BKa8l5QssJk_9NS4zMagTERQMsKB1ufP-bbKg/viewform \nDue date for application submissions November 1\, 2024 \nGeorgia Legion College \nCLASS OF 2024 \nDistrict Commanders please distribute to your Posts\nThe GALC is announcing the dates for Legion College for the year\n2024. Please adhere to all deadlines in a timely manner to assist the\nCollege with enough time to process each candidate. \nLocation: The Georgia Department Headquarters \n3035 Mt Zion Road\nStockbridge\, GA 30281 \nGALC Lodging:\nFairfield Inn Suites\n825 GA-138\, Stockbridge\, GA 30281\nMeeting Location for classes and instruction will be at Headquarters.\nTime: Please report no later than noon on November 15th to\nheadquarters for registration. Classes will begin at 1pm. \nReminder: Prior to November 1\, 2024\, the Online Basic Training\ncourse should be completed.
URL:https://georgialegion.org/events/georgia-legion-college/
LOCATION:Dept Of Georgia\, 3035 Mt Zion Rd\, Stockbridge\, GA\, 30281-4101\, United States
CATEGORIES:Dept of GA,Education,Training
ORGANIZER;CN="Tania Griffin":MAILTO:mrstaniagriffin@gmail.com
END:VEVENT
BEGIN:VEVENT
DTSTART;TZID=America/New_York:20241114T090000
DTEND;TZID=America/New_York:20241114T120000
DTSTAMP:20260421T002313
CREATED:20240913T153911Z
LAST-MODIFIED:20240913T153911Z
UID:16445-1731574800-1731585600@georgialegion.org
SUMMARY:HOSPITAL VISIT
DESCRIPTION:TUSKEGEE CAMPUS
URL:https://georgialegion.org/events/hospital-visit-7/
LOCATION:GA
END:VEVENT
BEGIN:VEVENT
DTSTART;TZID=America/New_York:20241113T130000
DTEND;TZID=America/New_York:20241113T160000
DTSTAMP:20260421T002313
CREATED:20240913T153808Z
LAST-MODIFIED:20240913T153808Z
UID:16443-1731502800-1731513600@georgialegion.org
SUMMARY:HOSPITAL VISIT
DESCRIPTION:CENTRAL ALABAMA VETERANS HEALTH CARE SYTEMS
URL:https://georgialegion.org/events/hospital-visit-6/
LOCATION:GA
END:VEVENT
BEGIN:VEVENT
DTSTART;TZID=America/New_York:20241106T090000
DTEND;TZID=America/New_York:20241106T120000
DTSTAMP:20260421T002313
CREATED:20240913T153559Z
LAST-MODIFIED:20240913T153559Z
UID:16441-1730883600-1730894400@georgialegion.org
SUMMARY:HOSPITAL VISIT
DESCRIPTION:DUBLIN VA MEDICAL CENTER
URL:https://georgialegion.org/events/hospital-visit-5/
LOCATION:GA
END:VEVENT
BEGIN:VEVENT
DTSTART;TZID=America/New_York:20241105T130000
DTEND;TZID=America/New_York:20241105T160000
DTSTAMP:20260421T002313
CREATED:20240913T153441Z
LAST-MODIFIED:20240913T153441Z
UID:16439-1730811600-1730822400@georgialegion.org
SUMMARY:HOSPITAL VISIT
DESCRIPTION:Georgia War Veteran Nursing Home
URL:https://georgialegion.org/events/hospital-visit-4/
LOCATION:GA
END:VEVENT
BEGIN:VEVENT
DTSTART;TZID=America/New_York:20241029T190000
DTEND;TZID=America/New_York:20241029T203000
DTSTAMP:20260421T002313
CREATED:20240603T193818Z
LAST-MODIFIED:20241008T090022Z
UID:15827-1730228400-1730233800@georgialegion.org
SUMMARY:NATIONAL TRAINING TUESDAYS
DESCRIPTION:TRAINING TUESDAYS \nThe last Tuesday monthly \nSubject matter changes monthly \nhttps://www.legion.org/sitesearch?s=training+tuesdays
URL:https://georgialegion.org/events/national-training-tuesdays/
LOCATION:GA
CATEGORIES:Education,Training
END:VEVENT
BEGIN:VEVENT
DTSTART;VALUE=DATE:20241025
DTEND;VALUE=DATE:20241028
DTSTAMP:20260421T002313
CREATED:20240705T104540Z
LAST-MODIFIED:20240913T164110Z
UID:16063-1729814400-1730073599@georgialegion.org
SUMMARY:DEPARTMENT OF GEORGIA-FALL CONFERENCE
DESCRIPTION:Department of Georgia Fall Conference 2024 \nDEC meetings Thursday 10/24 @ 6PM & 10/26 \nRegistration link: \nhttps://georgialegion.org/wp-content/uploads/2024/09/FALL-CONFERENCE-DULUTH-2024-LKFillable.pdf
URL:https://georgialegion.org/events/department-of-georgia-fall-conference/
LOCATION:Sonesta Place\, 1775 Pleasant Hill Rd\,\, Duluth\, GA\, 30080\, United States
CATEGORIES:Dept of GA,Family Events
END:VEVENT
BEGIN:VEVENT
DTSTART;VALUE=DATE:20241007
DTEND;VALUE=DATE:20241011
DTSTAMP:20260421T002313
CREATED:20231207T184716Z
LAST-MODIFIED:20231207T184716Z
UID:12826-1728259200-1728604799@georgialegion.org
SUMMARY:NATIONAL FALL CONFERENCE
DESCRIPTION:National Fall Conference
URL:https://georgialegion.org/events/national-fall-conference-3/
LOCATION:Sheraton City Centre Hotel\, 31 West Ohio St\, Indianapolis\, IN\, 46204\, United States
CATEGORIES:Family Events
END:VEVENT
BEGIN:VEVENT
DTSTART;TZID=America/New_York:20240925T130000
DTEND;TZID=America/New_York:20240925T160000
DTSTAMP:20260421T002313
CREATED:20240913T153315Z
LAST-MODIFIED:20240913T153315Z
UID:16437-1727269200-1727280000@georgialegion.org
SUMMARY:HOSPITAL VISIT
DESCRIPTION:ATLANTA REGIONAL OFFICE
URL:https://georgialegion.org/events/hospital-visit-3/
LOCATION:GA
END:VEVENT
END:VCALENDAR