BEGIN:VCALENDAR
VERSION:2.0
PRODID:-//American Legion Department of Georgia - ECPv6.15.20//NONSGML v1.0//EN
CALSCALE:GREGORIAN
METHOD:PUBLISH
X-ORIGINAL-URL:https://georgialegion.org
X-WR-CALDESC:Events for American Legion Department of Georgia
REFRESH-INTERVAL;VALUE=DURATION:PT1H
X-Robots-Tag:noindex
X-PUBLISHED-TTL:PT1H
BEGIN:VTIMEZONE
TZID:America/New_York
BEGIN:DAYLIGHT
TZOFFSETFROM:-0500
TZOFFSETTO:-0400
TZNAME:EDT
DTSTART:20230312T070000
END:DAYLIGHT
BEGIN:STANDARD
TZOFFSETFROM:-0400
TZOFFSETTO:-0500
TZNAME:EST
DTSTART:20231105T060000
END:STANDARD
BEGIN:DAYLIGHT
TZOFFSETFROM:-0500
TZOFFSETTO:-0400
TZNAME:EDT
DTSTART:20240310T070000
END:DAYLIGHT
BEGIN:STANDARD
TZOFFSETFROM:-0400
TZOFFSETTO:-0500
TZNAME:EST
DTSTART:20241103T060000
END:STANDARD
BEGIN:DAYLIGHT
TZOFFSETFROM:-0500
TZOFFSETTO:-0400
TZNAME:EDT
DTSTART:20250309T070000
END:DAYLIGHT
BEGIN:STANDARD
TZOFFSETFROM:-0400
TZOFFSETTO:-0500
TZNAME:EST
DTSTART:20251102T060000
END:STANDARD
END:VTIMEZONE
BEGIN:VEVENT
DTSTART;VALUE=DATE:20240609
DTEND;VALUE=DATE:20240616
DTSTAMP:20260420T193712
CREATED:20240129T115620Z
LAST-MODIFIED:20240129T173910Z
UID:14688-1717891200-1718495999@georgialegion.org
SUMMARY:BOYS STATE-GEORGIA
DESCRIPTION:Boys State-Georgia \n“REQUEST TO ATTEND ” SHOULD BE SUMITTED NO LATER THAN MAY 20\, 2024 \nBoys must have completed the Junior Year(11th Grade)of High School (or equivalent – Home School)\, with at least one (1) semester left of their Senior. \nClick this link to instructions and a Fillable PDF application: Boys State Fill-Georgia
URL:https://georgialegion.org/events/boys-state-georgia/
LOCATION:Valdosta State University\, Valdosta\, GA\, 1500 N Patterson St\, Valdosta\, GA\, 31602\, United States
CATEGORIES:Community,Education,Family Events
END:VEVENT
BEGIN:VEVENT
DTSTART;VALUE=DATE:20240517
DTEND;VALUE=DATE:20240520
DTSTAMP:20260420T193712
CREATED:20240129T143923Z
LAST-MODIFIED:20240129T143923Z
UID:14698-1715904000-1716163199@georgialegion.org
SUMMARY:Oratorical Contest-National
DESCRIPTION:The American Legion Oratorical Scholarship Contest \nQuarterfinal and semifinal contests are scheduled for Saturday\, May 18 with the finals scheduled for Sunday\, May 19. \nAll contestants and chaperones will arrive the Friday of the contest weekend.  All contestants and chaperones will stay on campus at Hillsdale College. \nA mandatory pre-contest orientation session for all contestants will take place the Friday evening of the contest weekend.  A banquet honoring all contestants will be Sunday afternoon\, following the national championship contest.
URL:https://georgialegion.org/events/oratorical-contest-national/
LOCATION:Hillsdale College\, Hillsdale\, MI\, United States
CATEGORIES:Community,Education,Family Events
END:VEVENT
BEGIN:VEVENT
DTSTART;TZID=America/New_York:20240511T110000
DTEND;TZID=America/New_York:20240511T160000
DTSTAMP:20260420T193712
CREATED:20240413T115846Z
LAST-MODIFIED:20240418T154448Z
UID:15475-1715425200-1715443200@georgialegion.org
SUMMARY:CHAPLAIN TRAINING/REFRESHER COURSE
DESCRIPTION:The host and trainers will be Michael Schwartz\, Department Chaplain and Clarence Sinkler\, Department Assistant Chaplain.\nCourse agenda will include the role of a chaplain\, administrative procedures\, 4 Chaplain services and other duties associated with the role of a chaplain. \nPlease RSVP to Chaplain Schwartz via email at ignitewithfaith@yahoo.com no later than\nFriday\, May 3\, 2024.
URL:https://georgialegion.org/events/chaplain-training-refresher-course/
LOCATION:Post 160\, 160 Legion Dr\, SE\, Smyrna\, 30080\, United States
CATEGORIES:Education,Training
ORGANIZER;CN="Michael Schwartz":MAILTO:ignitewithfaith@yahoo.com
END:VEVENT
BEGIN:VEVENT
DTSTART;VALUE=DATE:20240303
DTEND;VALUE=DATE:20240304
DTSTAMP:20260420T193712
CREATED:20240129T141925Z
LAST-MODIFIED:20240129T141925Z
UID:14694-1709424000-1709510399@georgialegion.org
SUMMARY:ORATORICAL-DEPT OF GEORGIA
DESCRIPTION:Dept of GA Oratorical scholarship contest \nCONTACT US: \nRobert Stites\nChair\, Department Oratorical Committee\nrevrsal@aol.com \nJoe Bishop\nDepartment Oratorical Committee\nscjjcb@windstream.net\n229-881-7692
URL:https://georgialegion.org/events/oratorical-dept-of-georgia/
LOCATION:Historic Mary Persons Auditorium\, 27 Brooklyn Ave.\, Forsyth\, GA\, 31029\, United States
CATEGORIES:Community,Education,Family Events
END:VEVENT
BEGIN:VEVENT
DTSTART;TZID=America/New_York:20240124T090000
DTEND;TZID=America/New_York:20240124T153000
DTSTAMP:20260420T193712
CREATED:20231215T125209Z
LAST-MODIFIED:20240105T214435Z
UID:13472-1706086800-1706110200@georgialegion.org
SUMMARY:ADJUTANT'S TRAINING-***LOCATION CHANGE***
DESCRIPTION:ADJUTANT’S TRAINING
URL:https://georgialegion.org/events/adjutants-training/
LOCATION:Fairfield Inn and Suites\, Stockbridge\, Georgia\, 825 Hwy 138\, SE
CATEGORIES:Training
END:VEVENT
END:VCALENDAR