BEGIN:VCALENDAR
VERSION:2.0
PRODID:-//American Legion Department of Georgia - ECPv6.15.20//NONSGML v1.0//EN
CALSCALE:GREGORIAN
METHOD:PUBLISH
X-WR-CALNAME:American Legion Department of Georgia
X-ORIGINAL-URL:https://georgialegion.org
X-WR-CALDESC:Events for American Legion Department of Georgia
REFRESH-INTERVAL;VALUE=DURATION:PT1H
X-Robots-Tag:noindex
X-PUBLISHED-TTL:PT1H
BEGIN:VTIMEZONE
TZID:America/New_York
BEGIN:DAYLIGHT
TZOFFSETFROM:-0500
TZOFFSETTO:-0400
TZNAME:EDT
DTSTART:20240310T070000
END:DAYLIGHT
BEGIN:STANDARD
TZOFFSETFROM:-0400
TZOFFSETTO:-0500
TZNAME:EST
DTSTART:20241103T060000
END:STANDARD
BEGIN:DAYLIGHT
TZOFFSETFROM:-0500
TZOFFSETTO:-0400
TZNAME:EDT
DTSTART:20250309T070000
END:DAYLIGHT
BEGIN:STANDARD
TZOFFSETFROM:-0400
TZOFFSETTO:-0500
TZNAME:EST
DTSTART:20251102T060000
END:STANDARD
BEGIN:DAYLIGHT
TZOFFSETFROM:-0500
TZOFFSETTO:-0400
TZNAME:EDT
DTSTART:20260308T070000
END:DAYLIGHT
BEGIN:STANDARD
TZOFFSETFROM:-0400
TZOFFSETTO:-0500
TZNAME:EST
DTSTART:20261101T060000
END:STANDARD
END:VTIMEZONE
BEGIN:VEVENT
DTSTART;VALUE=DATE:20250530
DTEND;VALUE=DATE:20250602
DTSTAMP:20260420T134628
CREATED:20250402T183205Z
LAST-MODIFIED:20250402T184012Z
UID:18017-1748563200-1748822399@georgialegion.org
SUMMARY:Willie Pitts Reunion & Banquet - Fundraiser - Columbus\, GA
DESCRIPTION:WELCOME TO THE 23rd ANNUAL WILLIE PITTS REUNION \nNATIONAL EMERGENCY FUNDRAISER\nREUNION AND BANQUET\nMAY 30-JUNE 1\, 2025  \n HOSTED BY \n\nSamuel G. Cooke\, American Legion Post 267\, 4027 Cusseta Road\, Columbus\, Georgia\nCharles S. Harrison\, American Legion Post 35\, 3361 N. Lumpkin Road\, Columbus\, Georgia\nEddie L. Roberts\, American Legion Post 333\n\nAmerican Legion Posts 267\, 35\, & 333\, in Columbus will sponsor the 23rd Annual Willie Pitts Reunion.  The reunion is a social event sanctioned by the American Legion\, Department of Georgia\, to fundraise for the American Legion National Emergency Funds (NEF).  Monies raised are donated to the NEF in the honor and memory of Willie Pitts\, past Department of Georgia Commander and past National Chairperson of NEF.  These donations assist Legionnaires and their families nationally in the event of natural disasters.  Last year\, this event donated over $8\,000.00 to the NEF.  In 2025\, with your support\, we hope to increase and anticipate raising even more. \nSCHEDULE OF EVENTS: \nFRIDAY\, MAY 30\, 2025 \n\nREGISTRATION ($15.00) (American Legion Post 267)  — 4:00 pm until 10:00 pm\nMEET AND GREET          (American Legion Post 267)  — 4:00 pm until 8:00 pm\nCOMPLIMENTARY BAR  (American Legion Post 267)  — 4:00 pm until 8:00 pm                                    \n\n SATURDAY\, MAY 31\, 2025 \n\nBARBECUE                                                 — 12:00 pm until 2:00 pm\nBID WHIST TOURNAMENT                        — 2:00 pm until 3:00 pm  (ENTRY FEE $20 PER TEAM)\nPARADE OF POSTS (SHIRT CONTEST)  —  3:00 pm until 4:00 pm\nON YOUR OWN                                         —  4:00 pm until 8:00 p.m\nBANQUET (American Legion Post 35)      —  8:00 pm until 10:00 pm\nPARTY TIME                                             — 10:00 pm until closing\n\nSUNDAY\, JUNE 1\, 2025 \n\nBREAKFAST AND RELIGIOUS SERVICE — 10:00 am until 12:00 pm\n\nFor more information about this event and available hotels\, please click this link:  WILLIE PITTS INFO
URL:https://georgialegion.org/events/willie-pitts-reunion-banquet-fundraiser-columbus-ga/
LOCATION:American Legion 267 (for sign in) and Post 35 (for Ball)\, 4027 Cusseta Road\, Columbus\, GA\, United States
END:VEVENT
END:VCALENDAR